BEGIN:VCALENDAR
VERSION:2.0
PRODID:-//OCD - ECPv6.15.20//NONSGML v1.0//EN
CALSCALE:GREGORIAN
METHOD:PUBLISH
X-WR-CALNAME:OCD
X-ORIGINAL-URL:https://oromocommunitydallas.org
X-WR-CALDESC:Events for OCD
REFRESH-INTERVAL;VALUE=DURATION:PT1H
X-Robots-Tag:noindex
X-PUBLISHED-TTL:PT1H
BEGIN:VTIMEZONE
TZID:UTC
BEGIN:STANDARD
TZOFFSETFROM:+0000
TZOFFSETTO:+0000
TZNAME:UTC
DTSTART:20220101T000000
END:STANDARD
END:VTIMEZONE
BEGIN:VEVENT
DTSTART;TZID=UTC:20231022T120000
DTEND;TZID=UTC:20231022T170000
DTSTAMP:20260425T134644
CREATED:20231014T193036Z
LAST-MODIFIED:20231014T193606Z
UID:3018-1697976000-1697994000@oromocommunitydallas.org
SUMMARY:Fundraiser to support Western Wallaga community affected by hunger and Malery epidemic.
DESCRIPTION:
URL:https://oromocommunitydallas.org/event/fundraiser-to-support-wester-wallaga-community-that-are-affected-by-hunger-and-malery-epidemic/
LOCATION:Dallas Oromo Evangelical Church\, 1109 Clint St.\, Carrollton\, TX\, 75006
END:VEVENT
BEGIN:VEVENT
DTSTART;VALUE=DATE:20251004
DTEND;VALUE=DATE:20251005
DTSTAMP:20260425T134644
CREATED:20250930T181401Z
LAST-MODIFIED:20250930T181401Z
UID:3145-1759536000-1759622399@oromocommunitydallas.org
SUMMARY:iRREECHA 2025
DESCRIPTION:
URL:https://oromocommunitydallas.org/event/irreecha-2025/
LOCATION:White Rock Lake\, 8300 E. Lawther Dr.\, Dallas\, TX\, 75128\, United States
ATTACH;FMTTYPE=image/jpeg:https://oromocommunitydallas.org/wp-content/uploads/2025/09/Irreecha.jpeg
END:VEVENT
END:VCALENDAR